BEGIN:VCALENDAR
PRODID:-//171.64.11.108//NONSGML iCalcreator 2.6//
VERSION:2.0
BEGIN:VEVENT
UID:USTID123-AYD638-8404-20250809
DTSTAMP:20120116T042837Z
DTSTART;VALUE=DATE:20250809
SUMMARY:Last day of Summer Term, 2024-25
END:VEVENT
BEGIN:VEVENT
UID:USTID123-AYD639-8384-20250826
DTSTAMP:20120116T042837Z
DTSTART;VALUE=DATE:20250826
DTEND;VALUE=DATE:20250828
SUMMARY:Class Enrollment starts &ndash; All UG students [A validation period for class enrollment will be arranged prior to these dates]
END:VEVENT
BEGIN:VEVENT
UID:USTID123-AYD640-5567-20250826
DTSTAMP:20120116T042837Z
DTSTART;VALUE=DATE:20250826
SUMMARY:Class Enrollment starts &ndash; All PG students [A validation period for class enrollment will be arranged prior to these dates]
END:VEVENT
BEGIN:VEVENT
UID:USTID123-AYD641-8665-20250831
DTSTAMP:20120116T042837Z
DTSTART;VALUE=DATE:20250831
SUMMARY:Last day for submission of final thesis examination results and thesis copies for Summer 2024-25
END:VEVENT
BEGIN:VEVENT
UID:USTID123-AYD642-7338-20250901
DTSTAMP:20120116T042837Z
DTSTART;VALUE=DATE:20250901
SUMMARY:Commencement of the 2025-26 Academic Year
END:VEVENT
BEGIN:VEVENT
UID:USTID123-AYD643-2243-20250901
DTSTAMP:20120116T042837Z
DTSTART;VALUE=DATE:20250901
SUMMARY:Fall Term commences
END:VEVENT
BEGIN:VEVENT
UID:USTID123-AYD644-2846-20250901
DTSTAMP:20120116T042837Z
DTSTART;VALUE=DATE:20250901
DTEND;VALUE=DATE:20250914
SUMMARY:Add/Drop Period
END:VEVENT
BEGIN:VEVENT
UID:USTID123-AYD645-2815-20250915
DTSTAMP:20120116T042837Z
DTSTART;VALUE=DATE:20250915
DTEND;VALUE=DATE:20250928
SUMMARY:Extended Drop Period &ndash; for PG courses only
END:VEVENT
BEGIN:VEVENT
UID:USTID123-AYD646-2216-20251001
DTSTAMP:20120116T042837Z
DTSTART;VALUE=DATE:20251001
SUMMARY:The National Day
END:VEVENT
BEGIN:VEVENT
UID:USTID123-AYD647-6920-20251007
DTSTAMP:20120116T042837Z
DTSTART;VALUE=DATE:20251007
SUMMARY:The day following the Chinese Mid-Autumn Festival
END:VEVENT
BEGIN:VEVENT
UID:USTID123-AYD648-5553-20251029
DTSTAMP:20120116T042837Z
DTSTART;VALUE=DATE:20251029
SUMMARY:Chung Yeung Festival
END:VEVENT
BEGIN:VEVENT
UID:USTID123-AYD649-3004-20251129
DTSTAMP:20120116T042837Z
DTSTART;VALUE=DATE:20251129
SUMMARY:Last day of Fall Term classes
END:VEVENT
BEGIN:VEVENT
UID:USTID123-AYD650-2177-20251201
DTSTAMP:20120116T042837Z
DTSTART;VALUE=DATE:20251201
DTEND;VALUE=DATE:20251207
SUMMARY:Study Break
END:VEVENT
BEGIN:VEVENT
UID:USTID123-AYD651-8139-20251208
DTSTAMP:20120116T042837Z
DTSTART;VALUE=DATE:20251208
DTEND;VALUE=DATE:20251220
SUMMARY:Fall Term Examinations
END:VEVENT
BEGIN:VEVENT
UID:USTID123-AYD652-1559-20251219
DTSTAMP:20120116T042837Z
DTSTART;VALUE=DATE:20251219
SUMMARY:Last day of Fall Term
END:VEVENT
BEGIN:VEVENT
UID:USTID123-AYD653-8787-20251225
DTSTAMP:20120116T042837Z
DTSTART;VALUE=DATE:20251225
SUMMARY:Christmas Day
END:VEVENT
BEGIN:VEVENT
UID:USTID123-AYD654-3029-20251226
DTSTAMP:20120116T042837Z
DTSTART;VALUE=DATE:20251226
SUMMARY:The first weekday after Christmas Day
END:VEVENT
BEGIN:VEVENT
UID:USTID123-AYD655-5321-20260101
DTSTAMP:20120116T042837Z
DTSTART;VALUE=DATE:20260101
SUMMARY:The first day of January
END:VEVENT
BEGIN:VEVENT
UID:USTID123-AYD656-2228-20260101
DTSTAMP:20120116T042837Z
DTSTART;VALUE=DATE:20260101
SUMMARY:Last day for submission of final thesis examination results and thesis copies for Fall
END:VEVENT
BEGIN:VEVENT
UID:USTID123-AYD657-6873-20260102
DTSTAMP:20120116T042837Z
DTSTART;VALUE=DATE:20260102
SUMMARY:Winter Term commences
END:VEVENT
BEGIN:VEVENT
UID:USTID123-AYD658-7370-20260127
DTSTAMP:20120116T042837Z
DTSTART;VALUE=DATE:20260127
DTEND;VALUE=DATE:20260129
SUMMARY:Class Enrollment starts &ndash; All UG students [A validation period for class enrollment will be arranged prior to these dates]
END:VEVENT
BEGIN:VEVENT
UID:USTID123-AYD659-7681-20260127
DTSTAMP:20120116T042837Z
DTSTART;VALUE=DATE:20260127
SUMMARY:Class Enrollment starts &ndash; All PG students [A validation period for class enrollment will be arranged prior to these dates]
END:VEVENT
BEGIN:VEVENT
UID:USTID123-AYD660-3994-20260129
DTSTAMP:20120116T042837Z
DTSTART;VALUE=DATE:20260129
SUMMARY:Last day of Winter Term
END:VEVENT
BEGIN:VEVENT
UID:USTID123-AYD661-8349-20260201
DTSTAMP:20120116T042837Z
DTSTART;VALUE=DATE:20260201
SUMMARY:Last day for submission of final thesis examination results and thesis copies for Winter
END:VEVENT
BEGIN:VEVENT
UID:USTID123-AYD662-7012-20260202
DTSTAMP:20120116T042837Z
DTSTART;VALUE=DATE:20260202
SUMMARY:Spring Term commences
END:VEVENT
BEGIN:VEVENT
UID:USTID123-AYD663-1625-20260202
DTSTAMP:20120116T042837Z
DTSTART;VALUE=DATE:20260202
DTEND;VALUE=DATE:20260215
SUMMARY:Add/Drop Period
END:VEVENT
BEGIN:VEVENT
UID:USTID123-AYD664-8679-20260216
DTSTAMP:20120116T042837Z
DTSTART;VALUE=DATE:20260216
DTEND;VALUE=DATE:20260305
SUMMARY:Extended Drop Period &ndash; for PG courses only
END:VEVENT
BEGIN:VEVENT
UID:USTID123-AYD665-7899-20260217
DTSTAMP:20120116T042837Z
DTSTART;VALUE=DATE:20260217
SUMMARY:Lunar New Year&rsquo;s Day
END:VEVENT
BEGIN:VEVENT
UID:USTID123-AYD666-7347-20260218
DTSTAMP:20120116T042837Z
DTSTART;VALUE=DATE:20260218
SUMMARY:The second day of Lunar New Year
END:VEVENT
BEGIN:VEVENT
UID:USTID123-AYD667-6080-20260219
DTSTAMP:20120116T042837Z
DTSTART;VALUE=DATE:20260219
SUMMARY:The third day of Lunar New Year
END:VEVENT
BEGIN:VEVENT
UID:USTID123-AYD668-6656-20260403
DTSTAMP:20120116T042837Z
DTSTART;VALUE=DATE:20260403
DTEND;VALUE=DATE:20260409
SUMMARY:Mid Term Break
END:VEVENT
BEGIN:VEVENT
UID:USTID123-AYD670-5752-20260403
DTSTAMP:20120116T042837Z
DTSTART;VALUE=DATE:20260403
SUMMARY:Good Friday
END:VEVENT
BEGIN:VEVENT
UID:USTID123-AYD669-4465-20260404
DTSTAMP:20120116T042837Z
DTSTART;VALUE=DATE:20260404
SUMMARY:The day following Good Friday
END:VEVENT
BEGIN:VEVENT
UID:USTID123-AYD671-2223-20260406
DTSTAMP:20120116T042837Z
DTSTART;VALUE=DATE:20260406
SUMMARY:The day following Ching Ming Festival
END:VEVENT
BEGIN:VEVENT
UID:USTID123-AYD672-4417-20260407
DTSTAMP:20120116T042837Z
DTSTART;VALUE=DATE:20260407
SUMMARY:The day following Easter Monday
END:VEVENT
BEGIN:VEVENT
UID:USTID123-AYD673-1803-20260501
DTSTAMP:20120116T042837Z
DTSTART;VALUE=DATE:20260501
SUMMARY:Labor Day
END:VEVENT
BEGIN:VEVENT
UID:USTID123-AYD674-3467-20260509
DTSTAMP:20120116T042837Z
DTSTART;VALUE=DATE:20260509
SUMMARY:Last day of Spring Term classes
END:VEVENT
BEGIN:VEVENT
UID:USTID123-AYD675-6263-20260511
DTSTAMP:20120116T042837Z
DTSTART;VALUE=DATE:20260511
DTEND;VALUE=DATE:20260516
SUMMARY:Study Break
END:VEVENT
BEGIN:VEVENT
UID:USTID123-AYD676-3618-20260516
DTSTAMP:20120116T042837Z
DTSTART;VALUE=DATE:20260516
DTEND;VALUE=DATE:20260530
SUMMARY:Spring Term Examinations
END:VEVENT
BEGIN:VEVENT
UID:USTID123-AYD678-4684-20260525
DTSTAMP:20120116T042837Z
DTSTART;VALUE=DATE:20260525
SUMMARY:The day following the Birthday of the Buddha
END:VEVENT
BEGIN:VEVENT
UID:USTID123-AYD677-3184-20260529
DTSTAMP:20120116T042837Z
DTSTART;VALUE=DATE:20260529
SUMMARY:Last day of Spring Term
END:VEVENT
BEGIN:VEVENT
UID:USTID123-AYD679-8172-20260614
DTSTAMP:20120116T042837Z
DTSTART;VALUE=DATE:20260614
SUMMARY:Last day for submission of final thesis examination results and thesis copies for Spring
END:VEVENT
BEGIN:VEVENT
UID:USTID123-AYD680-6689-20260615
DTSTAMP:20120116T042837Z
DTSTART;VALUE=DATE:20260615
SUMMARY:15/6-8/8	Summer Term
END:VEVENT
BEGIN:VEVENT
UID:USTID123-AYD681-4361-20260619
DTSTAMP:20120116T042837Z
DTSTART;VALUE=DATE:20260619
SUMMARY:Tuen Ng Festival
END:VEVENT
BEGIN:VEVENT
UID:USTID123-AYD682-6312-20260701
DTSTAMP:20120116T042837Z
DTSTART;VALUE=DATE:20260701
SUMMARY:Hong Kong Special Administrative Region Establishment Day
END:VEVENT
END:VCALENDAR
